BEGIN:VCALENDAR
VERSION:2.0
PRODID:-//Plone.org//NONSGML plone.app.event//EN
X-WR-TIMEZONE:Europe/Madrid
BEGIN:VEVENT
SUMMARY:Caminada per commemorar el Dia Internacional de la salut de les dones : Fem camí per la salut
DTSTART;TZID=Europe/Madrid;VALUE=DATE-TIME:20130512T090000
DTEND;TZID=Europe/Madrid;VALUE=DATE-TIME:20130512T100000
DTSTAMP;VALUE=DATE-TIME:20260423T224826Z
UID:8c74568fac9aae5b508d0f6ad14d1de1
CREATED;VALUE=DATE-TIME:20130512T000000Z
CATEGORIES:Esports
LOCATION:Sortida de davant del C.C. Calisay
ORGANIZER:Regidoria d'Igualtat
URL:https://arenysdemar.cat/document.php?id=26053
END:VEVENT
END:VCALENDAR