BEGIN:VCALENDAR
VERSION:2.0
PRODID:-//Plone.org//NONSGML plone.app.event//EN
X-WR-TIMEZONE:Europe/Madrid
BEGIN:VEVENT
SUMMARY:Taller de capes d'imatge
DTSTART;TZID=Europe/Madrid;VALUE=DATE-TIME:20130427T170000
DTEND;TZID=Europe/Madrid;VALUE=DATE-TIME:20130427T180000
DTSTAMP;VALUE=DATE-TIME:20260424T061629Z
UID:807ddfb60933ec435f1a64e93c7320bb
CREATED;VALUE=DATE-TIME:20130427T000000Z
CATEGORIES:Cursos
ORGANIZER:Agrupació Fotogràfica d'Arenys de Mar
DESCRIPTION:a càrre de Joan Marlet
URL:https://arenysdemar.cat/document.php?id=26094
END:VEVENT
END:VCALENDAR