BEGIN:VCALENDAR
VERSION:2.0
PRODID:-//Plone.org//NONSGML plone.app.event//EN
X-WR-TIMEZONE:Europe/Madrid
BEGIN:VEVENT
SUMMARY:Festa al carrer del Tossol
DTSTART;TZID=Europe/Madrid;VALUE=DATE-TIME:20130607T000000
DTEND;TZID=Europe/Madrid;VALUE=DATE-TIME:20130607T010000
DTSTAMP;VALUE=DATE-TIME:20260419T183154Z
UID:ea806b8ac1d253e1d2e4d09cd148d639
CREATED;VALUE=DATE-TIME:20130607T000000Z
CATEGORIES:Festa
LOCATION:al carrer Tossol
ORGANIZER:Veïnat del Tossol
COMMENT:Durada: Fins diumenge 9 de juny
URL:https://arenysdemar.cat/document.php?id=26105
END:VEVENT
END:VCALENDAR