BEGIN:VCALENDAR
VERSION:2.0
PRODID:-//Plone.org//NONSGML plone.app.event//EN
X-WR-TIMEZONE:Europe/Madrid
BEGIN:VEVENT
SUMMARY:6a. Gimcana familiar
DTSTART;TZID=Europe/Madrid;VALUE=DATE-TIME:20130707T100000
DTEND;TZID=Europe/Madrid;VALUE=DATE-TIME:20130707T110000
DTSTAMP;VALUE=DATE-TIME:20260424T145111Z
UID:5c792ad918be0d2b717082cd65514dad
CREATED;VALUE=DATE-TIME:20130707T000000Z
CATEGORIES:Infantils
LOCATION:Pati del C.C.Calisay - Riera del Pare Fita, 31
ORGANIZER:Ajuntament d'Arenys de Mar i FLOC
DESCRIPTION:Gaudeix d'un matí molt agradable participant i fent proves de les de tota la vida
URL:https://arenysdemar.cat/document.php?id=26121
END:VEVENT
END:VCALENDAR