BEGIN:VCALENDAR
VERSION:2.0
PRODID:-//Plone.org//NONSGML plone.app.event//EN
X-WR-TIMEZONE:Europe/Madrid
BEGIN:VEVENT
SUMMARY:Festa de l'escuma
DTSTART;TZID=Europe/Madrid;VALUE=DATE-TIME:20130707T130000
DTEND;TZID=Europe/Madrid;VALUE=DATE-TIME:20130707T140000
DTSTAMP;VALUE=DATE-TIME:20260420T233943Z
UID:de390e3c82f2fa4a633e4e44af805d02
CREATED;VALUE=DATE-TIME:20130707T000000Z
CATEGORIES:Festa,Infantils
LOCATION:Riera, davant del C.C.Calisay
ORGANIZER:Ajuntament d'Arenys de Mar i FLOC
DESCRIPTION:No te la perdis
URL:https://arenysdemar.cat/document.php?id=26123
END:VEVENT
END:VCALENDAR