BEGIN:VCALENDAR
VERSION:2.0
PRODID:-//Plone.org//NONSGML plone.app.event//EN
X-WR-TIMEZONE:Europe/Madrid
BEGIN:VEVENT
SUMMARY:Concert de Festa Major
DTSTART;TZID=Europe/Madrid;VALUE=DATE-TIME:20130708T190000
DTEND;TZID=Europe/Madrid;VALUE=DATE-TIME:20130708T200000
DTSTAMP;VALUE=DATE-TIME:20260424T204552Z
UID:84eaea37d3ba0d8c946ca8f832fa05fc
CREATED;VALUE=DATE-TIME:20130708T000000Z
CATEGORIES:Música
LOCATION:Riera, davant del Xifré
ORGANIZER:Ajuntament d'Arenys de Mar
DESCRIPTION:a càrrec de la Cobla-Orquestra Maravella
URL:https://arenysdemar.cat/document.php?id=26125
END:VEVENT
END:VCALENDAR