BEGIN:VCALENDAR
VERSION:2.0
PRODID:-//Plone.org//NONSGML plone.app.event//EN
X-WR-TIMEZONE:Europe/Madrid
BEGIN:VEVENT
SUMMARY:Cursa Nocturna Sant Zenon.
DTSTART;TZID=Europe/Madrid;VALUE=DATE-TIME:20130706T210000
DTEND;TZID=Europe/Madrid;VALUE=DATE-TIME:20130706T220000
DTSTAMP;VALUE=DATE-TIME:20260421T082805Z
UID:c1953a3c0245be9da1389b27c89c16ca
CREATED;VALUE=DATE-TIME:20130706T000000Z
CATEGORIES:Esports
LOCATION:Passeig Platja Cavaió
ORGANIZER:Regidoria d'esports i Gesport
COMMENT:Preu: http://gesport.cat/maresme5k/
DESCRIPTION:Circuit Maresme 5K
URL:https://arenysdemar.cat/document.php?id=26140
END:VEVENT
END:VCALENDAR