BEGIN:VCALENDAR
VERSION:2.0
PRODID:-//Plone.org//NONSGML plone.app.event//EN
X-WR-TIMEZONE:Europe/Madrid
BEGIN:VEVENT
SUMMARY:Brindis Popular
DTSTART;TZID=Europe/Madrid;VALUE=DATE-TIME:20130705T204500
DTEND;TZID=Europe/Madrid;VALUE=DATE-TIME:20130705T214500
DTSTAMP;VALUE=DATE-TIME:20260423T035907Z
UID:ee909d12c3d7455ee94a2ab41c8963fa
CREATED;VALUE=DATE-TIME:20130705T000000Z
CATEGORIES:Festa
LOCATION:Plaça Ajuntament - Riera Bisbe Pol, 8
ORGANIZER:Ajuntament d'Arenys de Mar
URL:https://arenysdemar.cat/document.php?id=26164
END:VEVENT
END:VCALENDAR