BEGIN:VCALENDAR
VERSION:2.0
PRODID:-//Plone.org//NONSGML plone.app.event//EN
X-WR-TIMEZONE:Europe/Madrid
BEGIN:VEVENT
SUMMARY:Big Band Jazz Maresme
DTSTART;TZID=Europe/Madrid;VALUE=DATE-TIME:20130512T190000
DTEND;TZID=Europe/Madrid;VALUE=DATE-TIME:20130512T200000
DTSTAMP;VALUE=DATE-TIME:20260423T122856Z
UID:bfc0effd15c85c1b69915813e26bfce5
CREATED;VALUE=DATE-TIME:20130512T000000Z
CATEGORIES:Música
LOCATION:Teatre Principal - C. Església, 45-47
ORGANIZER:S.C. L'Esperança i la Regidoria de Cultura
COMMENT:Preu: 10&euro; venda anticipada i 12&euro; a taquilla
URL:https://arenysdemar.cat/document.php?id=26186
END:VEVENT
END:VCALENDAR