BEGIN:VCALENDAR
VERSION:2.0
PRODID:-//Plone.org//NONSGML plone.app.event//EN
X-WR-TIMEZONE:Europe/Madrid
BEGIN:VEVENT
SUMMARY:Arts i Flors: 2a. trobada d'orquestres de guitarres del Maresme
DTSTART;TZID=Europe/Madrid;VALUE=DATE-TIME:20130601T123000
DTEND;TZID=Europe/Madrid;VALUE=DATE-TIME:20130601T133000
DTSTAMP;VALUE=DATE-TIME:20260419T165708Z
UID:781f4a808b7776f4eaca9cb59796fe2f
CREATED;VALUE=DATE-TIME:20130601T000000Z
CATEGORIES:Música
LOCATION:Auditori J.M. Arnau del C.C.Calisay - Riera del Pare Fita, 31
ORGANIZER:Ajuntament d'Arenys de Mar i l'Escola Municipal de Música d'Arenys de Mar
DESCRIPTION:a càrrec de les escoles de música de Santa Perpètua de la Mogoda, Sant Boi de llobregat, Sant Andreu de Llavaneres i d'Arenys de Mar
URL:https://arenysdemar.cat/document.php?id=26193
END:VEVENT
END:VCALENDAR