BEGIN:VCALENDAR
VERSION:2.0
PRODID:-//Plone.org//NONSGML plone.app.event//EN
X-WR-TIMEZONE:Europe/Madrid
BEGIN:VEVENT
SUMMARY:Arts i Flors: Trobada de big bands
DTSTART;TZID=Europe/Madrid;VALUE=DATE-TIME:20130602T130000
DTEND;TZID=Europe/Madrid;VALUE=DATE-TIME:20130602T140000
DTSTAMP;VALUE=DATE-TIME:20260423T230945Z
UID:c95e6107f9d8fc65e36b89295a4c02a9
CREATED;VALUE=DATE-TIME:20130602T000000Z
CATEGORIES:Música
LOCATION:Pati del C.C.Calisay - Riera del Pare Fita, 31
ORGANIZER:Ajuntament d'Arenys de Mar i l'Escola Municipal de Música d'Arenys de Mar
DESCRIPTION:de la Seu d'Urgell i d'Arenys de Mar
URL:https://arenysdemar.cat/document.php?id=26202
END:VEVENT
END:VCALENDAR