BEGIN:VCALENDAR
VERSION:2.0
PRODID:-//Plone.org//NONSGML plone.app.event//EN
X-WR-TIMEZONE:Europe/Madrid
BEGIN:VEVENT
SUMMARY:Conferència : La repressió de l'homosexualitat en l'Espanya dels 70 
DTSTART;TZID=Europe/Madrid;VALUE=DATE-TIME:20130615T183000
DTEND;TZID=Europe/Madrid;VALUE=DATE-TIME:20130615T193000
DTSTAMP;VALUE=DATE-TIME:20260423T104156Z
UID:db8fdc08a86f24d524f3bd5972bc9ddd
CREATED;VALUE=DATE-TIME:20130615T000000Z
CATEGORIES:Conferència
LOCATION:Sala Noble del C.C.Calisay - Riera Pare Fita, 31
ORGANIZER:Regidoria de Cultura
DESCRIPTION:a càrrec de Brice Chamouleau, investigador de la Universitat de Burdeus i de la Casa de Velázquez de Madrid
URL:https://arenysdemar.cat/document.php?id=26223
END:VEVENT
END:VCALENDAR