BEGIN:VCALENDAR
VERSION:2.0
PRODID:-//Plone.org//NONSGML plone.app.event//EN
X-WR-TIMEZONE:Europe/Madrid
BEGIN:VEVENT
SUMMARY:Arribada de la Flama del Canigó i lectura del manifest
DTSTART;TZID=Europe/Madrid;VALUE=DATE-TIME:20130623T210000
DTEND;TZID=Europe/Madrid;VALUE=DATE-TIME:20130623T220000
DTSTAMP;VALUE=DATE-TIME:20260423T232902Z
UID:86c051940b8352d8cb451c4b63f25d38
CREATED;VALUE=DATE-TIME:20130623T000000Z
CATEGORIES:Festa
LOCATION:Plaça Ajuntament - Riera Bisbe Pol, 8
ORGANIZER:Comissió Flama del Canigó i Ajuntament d'Arenys de Mar
DESCRIPTION:La flama del Canigó baixarà des del cap d'amunt de la Riera fins a la plaça de l'Ajuntament
URL:https://arenysdemar.cat/document.php?id=26234
END:VEVENT
END:VCALENDAR