BEGIN:VCALENDAR
VERSION:2.0
PRODID:-//Plone.org//NONSGML plone.app.event//EN
X-WR-TIMEZONE:Europe/Madrid
BEGIN:VEVENT
SUMMARY:Passejada matinal
DTSTART;TZID=Europe/Madrid;VALUE=DATE-TIME:20130613T090000
DTEND;TZID=Europe/Madrid;VALUE=DATE-TIME:20130613T100000
DTSTAMP;VALUE=DATE-TIME:20260424T010532Z
UID:cedfca608e8b56a4023e06ae26d5fcda
CREATED;VALUE=DATE-TIME:20130613T000000Z
CATEGORIES:Esports
LOCATION:Parc de Lurdes - c/ de les Doedes 1
ORGANIZER:Banc del Temps d'Arenys
URL:https://arenysdemar.cat/document.php?id=26241
END:VEVENT
END:VCALENDAR