BEGIN:VCALENDAR
VERSION:2.0
PRODID:-//Plone.org//NONSGML plone.app.event//EN
X-WR-TIMEZONE:Europe/Madrid
BEGIN:VEVENT
SUMMARY:Ball
DTSTART;TZID=Europe/Madrid;VALUE=DATE-TIME:20130609T170000
DTEND;TZID=Europe/Madrid;VALUE=DATE-TIME:20130609T180000
DTSTAMP;VALUE=DATE-TIME:20260420T201354Z
UID:3a8abc927ccd872844e566d99afdf599
CREATED;VALUE=DATE-TIME:20130609T000000Z
CATEGORIES:Música
LOCATION:Esplai/C.C.Calisay - Riera del Pare Fita, 31
ORGANIZER:L'Esplai de la Gent Gran
DESCRIPTION:amb Eva Roche Grup
URL:https://arenysdemar.cat/document.php?id=26257
END:VEVENT
END:VCALENDAR