BEGIN:VCALENDAR
VERSION:2.0
PRODID:-//Plone.org//NONSGML plone.app.event//EN
X-WR-TIMEZONE:Europe/Madrid
BEGIN:VEVENT
SUMMARY:La nit dels Indians
DTSTART;TZID=Europe/Madrid;VALUE=DATE-TIME:20130601T170000
DTEND;TZID=Europe/Madrid;VALUE=DATE-TIME:20130601T180000
DTSTAMP;VALUE=DATE-TIME:20260424T010801Z
UID:4893e5ba66b0bae132a25c571ee5382e
CREATED;VALUE=DATE-TIME:20130601T000000Z
CATEGORIES:Mostra
LOCATION:Feixes de l'Edifici Xifré
ORGANIZER:AFGAR
COMMENT:Durada: de 17h a 01h
DESCRIPTION:Terrasses amb menjars cubans i caribenys
URL:https://arenysdemar.cat/document.php?id=26259
END:VEVENT
END:VCALENDAR