BEGIN:VCALENDAR
VERSION:2.0
PRODID:-//Plone.org//NONSGML plone.app.event//EN
X-WR-TIMEZONE:Europe/Madrid
BEGIN:VEVENT
SUMMARY:Caminada  matinal pel Montseny
DTSTART;TZID=Europe/Madrid;VALUE=DATE-TIME:20130621T083000
DTEND;TZID=Europe/Madrid;VALUE=DATE-TIME:20130621T093000
DTSTAMP;VALUE=DATE-TIME:20260424T005658Z
UID:ff3c8b00c0053e106c9b41294468aea9
CREATED;VALUE=DATE-TIME:20130621T000000Z
CATEGORIES:Esports
LOCATION:Sortida de l'Esplai/C.C.Calisay - Riera del Pare Fita, 31
ORGANIZER:Esplai de la Gent Gran
COMMENT:Preu: 10 &euro;,  preu de l'autocar
URL:https://arenysdemar.cat/document.php?id=26267
END:VEVENT
END:VCALENDAR