BEGIN:VCALENDAR
VERSION:2.0
PRODID:-//Plone.org//NONSGML plone.app.event//EN
X-WR-TIMEZONE:Europe/Madrid
BEGIN:VEVENT
SUMMARY:Lúdico visual
DTSTART;TZID=Europe/Madrid;VALUE=DATE-TIME:20130614T173000
DTEND;TZID=Europe/Madrid;VALUE=DATE-TIME:20130614T183000
DTSTAMP;VALUE=DATE-TIME:20260420T212023Z
UID:b6e88abf9e8190a68df4710696a2dff0
CREATED;VALUE=DATE-TIME:20130614T000000Z
CATEGORIES:Cinema
LOCATION:Esplai/C.C.Calisay - Riera del Pare Fita, 31
ORGANIZER:Esplai de la Gent Gran
URL:https://arenysdemar.cat/document.php?id=26269
END:VEVENT
END:VCALENDAR