BEGIN:VCALENDAR
VERSION:2.0
PRODID:-//Plone.org//NONSGML plone.app.event//EN
X-WR-TIMEZONE:Europe/Madrid
BEGIN:VEVENT
SUMMARY:Conferència: Sobre Instruments nàutics medievals
DTSTART;TZID=Europe/Madrid;VALUE=DATE-TIME:20130607T180000
DTEND;TZID=Europe/Madrid;VALUE=DATE-TIME:20130607T190000
DTSTAMP;VALUE=DATE-TIME:20260419T183505Z
UID:1a7bb5061c3355a54d660f1c1355c85d
CREATED;VALUE=DATE-TIME:20130607T000000Z
CATEGORIES:Conferència
LOCATION:Esplai/C.C.Calisay - Riera del Pare Fita, 31
ORGANIZER:Esplai de la Gent Gran
DESCRIPTION:a càrrec de  Manel Capdevila
URL:https://arenysdemar.cat/document.php?id=26270
END:VEVENT
END:VCALENDAR