BEGIN:VCALENDAR
VERSION:2.0
PRODID:-//Plone.org//NONSGML plone.app.event//EN
X-WR-TIMEZONE:Europe/Madrid
BEGIN:VEVENT
SUMMARY:Jornada de portes obertes a l'Ateneu Arenyenc
DTSTART;TZID=Europe/Madrid;VALUE=DATE-TIME:20130708T163000
DTEND;TZID=Europe/Madrid;VALUE=DATE-TIME:20130708T173000
DTSTAMP;VALUE=DATE-TIME:20260420T213642Z
UID:d59d6654da7b43a5db3c01eb924fa906
CREATED;VALUE=DATE-TIME:20130708T000000Z
CATEGORIES:Festa
LOCATION:Carrer Ample
ORGANIZER:Ateneu Arenyenc
COMMENT:Durada: Fins a la una de la matinada
URL:https://arenysdemar.cat/document.php?id=26309
END:VEVENT
END:VCALENDAR