BEGIN:VCALENDAR
VERSION:2.0
PRODID:-//Plone.org//NONSGML plone.app.event//EN
X-WR-TIMEZONE:Europe/Madrid
BEGIN:VEVENT
SUMMARY:Ioga a la platja
DTSTART;TZID=Europe/Madrid;VALUE=DATE-TIME:20130529T000000
DTEND;TZID=Europe/Madrid;VALUE=DATE-TIME:20130529T010000
DTSTAMP;VALUE=DATE-TIME:20260423T230340Z
UID:0742d3c3565fe9e33e21b0c3286783c8
CREATED;VALUE=DATE-TIME:20130529T000000Z
LOCATION:Platja de la Picòrdia (1a Platja)
ORGANIZER:Associació de Dones per a la Igualtat d'Arenys de Mar
COMMENT:Preu: 25&euro;
Durada: Dimarts i dijous del mes de juliol. De les 20:30h. a les 22:00h.
DESCRIPTION:Impartit per Jaykar Singh
URL:https://arenysdemar.cat/document.php?id=26349
END:VEVENT
END:VCALENDAR