BEGIN:VCALENDAR
VERSION:2.0
PRODID:-//Plone.org//NONSGML plone.app.event//EN
X-WR-TIMEZONE:Europe/Madrid
BEGIN:VEVENT
SUMMARY:Hora del conte i taller: Barques de paper. Històries del petit Espriu
DTSTART;TZID=Europe/Madrid;VALUE=DATE-TIME:20130718T183000
DTEND;TZID=Europe/Madrid;VALUE=DATE-TIME:20130718T193000
DTSTAMP;VALUE=DATE-TIME:20260423T164506Z
UID:3ed4837dde3717b76a40c43aa00ceffc
CREATED;VALUE=DATE-TIME:20130718T000000Z
CATEGORIES:Infantils
LOCATION:Biblioplatja - Platja de la Picòrdia
ORGANIZER:Biblioteca - Regidoria de Cultura
DESCRIPTION:a càrrec de Marta Catalan i de Sergi Argemí
URL:https://arenysdemar.cat/document.php?id=26364
END:VEVENT
END:VCALENDAR