BEGIN:VCALENDAR
VERSION:2.0
PRODID:-//Plone.org//NONSGML plone.app.event//EN
X-WR-TIMEZONE:Europe/Madrid
BEGIN:VEVENT
SUMMARY:Ball i proclamació de la Pubilla i l'Hereu d'Arenys de Mar 2013
DTSTART;TZID=Europe/Madrid;VALUE=DATE-TIME:20130817T220000
DTEND;TZID=Europe/Madrid;VALUE=DATE-TIME:20130817T230000
DTSTAMP;VALUE=DATE-TIME:20260420T120449Z
UID:171658307ff75a45d9950fa86ac863ff
CREATED;VALUE=DATE-TIME:20130817T000000Z
CATEGORIES:Festa
LOCATION:Plaça de les Palmeres
ORGANIZER:Associació de Pubillatge d'Arenys i Ajuntament d'Arenys de Mar
DESCRIPTION:amb l'orquestra La Comparsa
URL:https://arenysdemar.cat/document.php?id=26415
END:VEVENT
END:VCALENDAR