BEGIN:VCALENDAR
VERSION:2.0
PRODID:-//Plone.org//NONSGML plone.app.event//EN
X-WR-TIMEZONE:Europe/Madrid
BEGIN:VEVENT
SUMMARY:Cercavila de gegants i nans
DTSTART;TZID=Europe/Madrid;VALUE=DATE-TIME:20130816T180000
DTEND;TZID=Europe/Madrid;VALUE=DATE-TIME:20130816T190000
DTSTAMP;VALUE=DATE-TIME:20260422T010511Z
UID:ef551bc6b59f9d0a4bcb57c101a2c229
CREATED;VALUE=DATE-TIME:20130816T000000Z
CATEGORIES:Festa
LOCATION:Pels carrers i places de la vila
ORGANIZER:Associació de Geganters d'Arenys de Mar i Regidoria de Cultura
DESCRIPTION:amb la Flor d'Alba i en Tallaferro, la Maria i en Roc, la Carmeta i l'Elm i tots el capgrossos
URL:https://arenysdemar.cat/document.php?id=26417
END:VEVENT
END:VCALENDAR