BEGIN:VCALENDAR
VERSION:2.0
PRODID:-//Plone.org//NONSGML plone.app.event//EN
X-WR-TIMEZONE:Europe/Madrid
BEGIN:VEVENT
SUMMARY:Fem volar estels
DTSTART;TZID=Europe/Madrid;VALUE=DATE-TIME:20130814T190000
DTEND;TZID=Europe/Madrid;VALUE=DATE-TIME:20130814T200000
DTSTAMP;VALUE=DATE-TIME:20260424T041025Z
UID:a1577cd577e45aa93b83e9e500d529ed
CREATED;VALUE=DATE-TIME:20130814T000000Z
CATEGORIES:Infantils
LOCATION:Biblioplatja - Platja de la Picòrdia
ORGANIZER:Biblioteca - Regidoria de Cultura
DESCRIPTION:Taller i volada d'estels
URL:https://arenysdemar.cat/document.php?id=26485
END:VEVENT
END:VCALENDAR