BEGIN:VCALENDAR
VERSION:2.0
PRODID:-//Plone.org//NONSGML plone.app.event//EN
X-WR-TIMEZONE:Europe/Madrid
BEGIN:VEVENT
SUMMARY:Conferència : La qualitat humana profunda a les grans religions
DTSTART;TZID=Europe/Madrid;VALUE=DATE-TIME:20130727T190000
DTEND;TZID=Europe/Madrid;VALUE=DATE-TIME:20130727T200000
DTSTAMP;VALUE=DATE-TIME:20260423T164609Z
UID:4349dad4941dec81eaaf924456cfcd24
CREATED;VALUE=DATE-TIME:20130727T000000Z
CATEGORIES:Conferència
LOCATION:Sala Noble del C.C.Calisay - Riera Pare Fita, 31
ORGANIZER:Ràdio Arenys (programa El punt de l'interrogant)
COMMENT:Durada: 2 hores
DESCRIPTION:a càrrec de Joan Miquel Lorente i Francesc Coll. Presentació Manel Pou
URL:https://arenysdemar.cat/document.php?id=26519
END:VEVENT
END:VCALENDAR