BEGIN:VCALENDAR
VERSION:2.0
PRODID:-//Plone.org//NONSGML plone.app.event//EN
X-WR-TIMEZONE:Europe/Madrid
BEGIN:VEVENT
SUMMARY:1er Campionat de Butifarra d'Arenys de Mar, St. Zenon 2013
DTSTART;TZID=Europe/Madrid;VALUE=DATE-TIME:20130706T160000
DTEND;TZID=Europe/Madrid;VALUE=DATE-TIME:20130706T170000
DTSTAMP;VALUE=DATE-TIME:20260421T032406Z
UID:f98175b657f2e7907fd067d736c20f40
CREATED;VALUE=DATE-TIME:20130706T000000Z
CATEGORIES:Esports,Festa
LOCATION:Sala de Ball de l'Ateneu Arenyenc - Josep Anselm Clavé 20-22
ORGANIZER:Regidoria de la Gent Gran i Ateneu Arenyenc
COMMENT:Preu: Inscripció 15&euro; per parella
URL:https://arenysdemar.cat/document.php?id=26528
END:VEVENT
END:VCALENDAR