BEGIN:VCALENDAR
VERSION:2.0
PRODID:-//Plone.org//NONSGML plone.app.event//EN
X-WR-TIMEZONE:Europe/Madrid
BEGIN:VEVENT
SUMMARY:VI Jornada de neteja i seguiment del fons marí
DTSTART;TZID=Europe/Madrid;VALUE=DATE-TIME:20130721T090000
DTEND;TZID=Europe/Madrid;VALUE=DATE-TIME:20130721T100000
DTSTAMP;VALUE=DATE-TIME:20260420T184933Z
UID:8079435373ccac6a3d63fb3b45f6beec
CREATED;VALUE=DATE-TIME:20130721T000000Z
CATEGORIES:Mostra
LOCATION:Platja del Cavaió
ORGANIZER:Voluntariat de l'Alt Maresme de Medi Ambient (VAMMA) i Regidoria de Medi Ambient
COMMENT:Preu: Participació lliure
URL:https://arenysdemar.cat/document.php?id=26540
END:VEVENT
END:VCALENDAR