BEGIN:VCALENDAR
VERSION:2.0
PRODID:-//Plone.org//NONSGML plone.app.event//EN
X-WR-TIMEZONE:Europe/Madrid
BEGIN:VEVENT
SUMMARY:Exposició : DOMO Meduses
DTSTART;TZID=Europe/Madrid;VALUE=DATE-TIME:20130726T120000
DTEND;TZID=Europe/Madrid;VALUE=DATE-TIME:20130726T130000
DTSTAMP;VALUE=DATE-TIME:20260420T165424Z
UID:98d0c7811cc187782d71c29c300dce4b
CREATED;VALUE=DATE-TIME:20130726T000000Z
CATEGORIES:Exposició
LOCATION:Biblioplatja - Platja de la Picòrdia
ORGANIZER:Biblioteca - Regidoria de Cultura, Institut de Ciències del Mar i Regidoria de Medi Ambient
URL:https://arenysdemar.cat/document.php?id=26583
END:VEVENT
END:VCALENDAR