BEGIN:VCALENDAR
VERSION:2.0
PRODID:-//Plone.org//NONSGML plone.app.event//EN
X-WR-TIMEZONE:Europe/Madrid
BEGIN:VEVENT
SUMMARY:Tallers ambientals per als infants
DTSTART;TZID=Europe/Madrid;VALUE=DATE-TIME:20130727T100000
DTEND;TZID=Europe/Madrid;VALUE=DATE-TIME:20130727T110000
DTSTAMP;VALUE=DATE-TIME:20260423T132515Z
UID:5eff6f63ef5694622a50e5a14e677d5b
CREATED;VALUE=DATE-TIME:20130727T000000Z
CATEGORIES:Infantils
LOCATION:Plaça de les Palmeres
ORGANIZER:Regidoria de Medi Ambient
COMMENT:Durada: fins a les 2 del migdia
DESCRIPTION:Cap de setmana ambiental a les platges d'Arenys
URL:https://arenysdemar.cat/document.php?id=26628
END:VEVENT
END:VCALENDAR