BEGIN:VCALENDAR
VERSION:2.0
PRODID:-//Plone.org//NONSGML plone.app.event//EN
X-WR-TIMEZONE:Europe/Madrid
BEGIN:VEVENT
SUMMARY:Òpera : Turandot de Giacomo Puccini
DTSTART;TZID=Europe/Madrid;VALUE=DATE-TIME:20130917T201500
DTEND;TZID=Europe/Madrid;VALUE=DATE-TIME:20130917T211500
DTSTAMP;VALUE=DATE-TIME:20260420T015748Z
UID:a5029c4915b9bfd06b4298ab02b5121f
CREATED;VALUE=DATE-TIME:20130917T000000Z
CATEGORIES:Música
LOCATION:Teatre Principal - C. Església, 45-47
ORGANIZER:S.C. l'Esperança i la Regidoria de Cultura
COMMENT:Preu: 13 anticipada per internet i 16 un hora abans a la taquilla
DESCRIPTION:Retransmissió en directe des de The Royal Opera House de Londres
URL:https://arenysdemar.cat/document.php?id=26640
END:VEVENT
END:VCALENDAR