BEGIN:VCALENDAR
VERSION:2.0
PRODID:-//Plone.org//NONSGML plone.app.event//EN
X-WR-TIMEZONE:Europe/Madrid
BEGIN:VEVENT
SUMMARY:Diada de l'esport 2013
DTSTART;TZID=Europe/Madrid;VALUE=DATE-TIME:20130914T170000
DTEND;TZID=Europe/Madrid;VALUE=DATE-TIME:20130914T180000
DTSTAMP;VALUE=DATE-TIME:20260420T015640Z
UID:932646f071de6d6af433335c3db60db7
CREATED;VALUE=DATE-TIME:20130914T000000Z
CATEGORIES:Esports
LOCATION:Riera, davant el Xifré
ORGANIZER:Regidoria d'esports, Associació de Tir amb Arc La Conxorxa, Arenys Bàsquet, Nanbudo Arenys, Club de Futbol Arenys, Penya Apa Anem-hi, Club Volei Platja Arenys, Club Nàutic Arenys, Club Hoquei Arenys, Club Patinatge Artístic Arenys i Futsal Arenys
URL:https://arenysdemar.cat/document.php?id=26647
END:VEVENT
END:VCALENDAR