BEGIN:VCALENDAR
VERSION:2.0
PRODID:-//Plone.org//NONSGML plone.app.event//EN
X-WR-TIMEZONE:Europe/Madrid
BEGIN:VEVENT
SUMMARY:Tirada de petanca Festa Major 2013
DTSTART;TZID=Europe/Madrid;VALUE=DATE-TIME:20130908T090000
DTEND;TZID=Europe/Madrid;VALUE=DATE-TIME:20130908T100000
DTSTAMP;VALUE=DATE-TIME:20260423T195942Z
UID:345781bb5ea42f05a3d3f29e19c4cbfe
CREATED;VALUE=DATE-TIME:20130908T000000Z
CATEGORIES:Esports
LOCATION:Plaça de la Sardana - Parc de Lurdes
ORGANIZER:C.P. Sinera
DESCRIPTION:amb clubs del Maresme.
URL:https://arenysdemar.cat/document.php?id=26657
END:VEVENT
END:VCALENDAR