BEGIN:VCALENDAR
VERSION:2.0
PRODID:-//Plone.org//NONSGML plone.app.event//EN
X-WR-TIMEZONE:Europe/Madrid
BEGIN:VEVENT
SUMMARY:Sardanes d'Estiu, homenatge a la població d'Arenys de Mar
DTSTART;TZID=Europe/Madrid;VALUE=DATE-TIME:20130818T200000
DTEND;TZID=Europe/Madrid;VALUE=DATE-TIME:20130818T210000
DTSTAMP;VALUE=DATE-TIME:20260424T043953Z
UID:5df71881a251a1a06a393d681789bae9
CREATED;VALUE=DATE-TIME:20130818T000000Z
CATEGORIES:Dansa
LOCATION:Arenys de Munt - Plaça de l'Església
ORGANIZER:Capital de la Sardana - Ajuntament d'Arenys de Munt
DESCRIPTION:amb la cobla Canigó
URL:https://arenysdemar.cat/document.php?id=26676
END:VEVENT
END:VCALENDAR