BEGIN:VCALENDAR
VERSION:2.0
PRODID:-//Plone.org//NONSGML plone.app.event//EN
X-WR-TIMEZONE:Europe/Madrid
BEGIN:VEVENT
SUMMARY:Festa al carrer Sant Francesc
DTSTART;TZID=Europe/Madrid;VALUE=DATE-TIME:20130928T220000
DTEND;TZID=Europe/Madrid;VALUE=DATE-TIME:20130928T230000
DTSTAMP;VALUE=DATE-TIME:20260419T201746Z
UID:b7a553aaede76038293aeb99084881ba
CREATED;VALUE=DATE-TIME:20130928T000000Z
CATEGORIES:Festa
LOCATION:Carrer Sant Francesc
ORGANIZER:Veïns del carrer Sant Francesc
URL:https://arenysdemar.cat/document.php?id=26732
END:VEVENT
END:VCALENDAR