BEGIN:VCALENDAR
VERSION:2.0
PRODID:-//Plone.org//NONSGML plone.app.event//EN
X-WR-TIMEZONE:Europe/Madrid
BEGIN:VEVENT
SUMMARY:Presentació del Calisarenys
DTSTART;TZID=Europe/Madrid;VALUE=DATE-TIME:20130929T000000
DTEND;TZID=Europe/Madrid;VALUE=DATE-TIME:20130929T010000
DTSTAMP;VALUE=DATE-TIME:20260424T053516Z
UID:d3f373df78b7571ac80e6e18772452fc
CREATED;VALUE=DATE-TIME:20130929T000000Z
CATEGORIES:Mostra
LOCATION:Riera, davant del Calisay
ORGANIZER:Associació d'Empresaris d'Hostaleria d'Arenys de Mar amb la col·laboració de Bodegues Garvey, Cafès Adaggio, Serhs Distribucions Coratama i l'Ajuntament d'Arenys de Mar
URL:https://arenysdemar.cat/document.php?id=26759
END:VEVENT
END:VCALENDAR