BEGIN:VCALENDAR
VERSION:2.0
PRODID:-//Plone.org//NONSGML plone.app.event//EN
X-WR-TIMEZONE:Europe/Madrid
BEGIN:VEVENT
SUMMARY:Arenys de Mar: entre turons una vila
DTSTART;TZID=Europe/Madrid;VALUE=DATE-TIME:20130824T113000
DTEND;TZID=Europe/Madrid;VALUE=DATE-TIME:20130824T123000
DTSTAMP;VALUE=DATE-TIME:20260423T235707Z
UID:18981baa0db6cb0f5b67f1b530ddc411
CREATED;VALUE=DATE-TIME:20130824T000000Z
CATEGORIES:Mostra
LOCATION:Sortida des de la Plaça de l'Església - Plaça de l'Església
ORGANIZER:Sinera Cultura amb la col·laboració de la Regidoria de Turisme i Fires
COMMENT:Preu: 5 (2x1 oferta exclusiva dia 24/08) gratuït menors de 12 anys
DESCRIPTION:Ruta cultural
URL:https://arenysdemar.cat/document.php?id=26782
END:VEVENT
END:VCALENDAR