BEGIN:VCALENDAR
VERSION:2.0
PRODID:-//Plone.org//NONSGML plone.app.event//EN
X-WR-TIMEZONE:Europe/Madrid
BEGIN:VEVENT
SUMMARY:Una tarda amb Salvador Espriu
DTSTART;TZID=Europe/Madrid;VALUE=DATE-TIME:20131018T180000
DTEND;TZID=Europe/Madrid;VALUE=DATE-TIME:20131018T190000
DTSTAMP;VALUE=DATE-TIME:20260426T042715Z
UID:d4113ad10de3397cf884b1c296538aee
CREATED;VALUE=DATE-TIME:20131018T000000Z
CATEGORIES:Literatura
LOCATION:Esplai/C.C.Calisay - Riera del Pare Fita, 31
ORGANIZER:L'Esplai de la Gent Gran
DESCRIPTION:Homenatge de L'Esplai al poeta i escriptor
URL:https://arenysdemar.cat/document.php?id=26844
END:VEVENT
END:VCALENDAR