BEGIN:VCALENDAR
VERSION:2.0
PRODID:-//Plone.org//NONSGML plone.app.event//EN
X-WR-TIMEZONE:Europe/Madrid
BEGIN:VEVENT
SUMMARY:Arenys Participa: Pressupost participatiu-2014 "AVUI ENS VEUREM AL CARRER"
DTSTART;TZID=Europe/Madrid;VALUE=DATE-TIME:20130920T170000
DTEND;TZID=Europe/Madrid;VALUE=DATE-TIME:20130920T180000
DTSTAMP;VALUE=DATE-TIME:20260420T015553Z
UID:356b94856c2de8d339c028f443d0d7a1
CREATED;VALUE=DATE-TIME:20130920T000000Z
CATEGORIES:Exposició
LOCATION:Riera, davant la plaça de l'església
ORGANIZER:Regidoria de Participació Ciutadana
COMMENT:Durada: Part alta de la Riera amb C. Montserrat
DESCRIPTION:Pressupost participatiu 2014
URL:https://arenysdemar.cat/document.php?id=26855
END:VEVENT
END:VCALENDAR