BEGIN:VCALENDAR
VERSION:2.0
PRODID:-//Plone.org//NONSGML plone.app.event//EN
X-WR-TIMEZONE:Europe/Madrid
BEGIN:VEVENT
SUMMARY:Música: Sota la pluja
DTSTART;TZID=Europe/Madrid;VALUE=DATE-TIME:20131123T210000
DTEND;TZID=Europe/Madrid;VALUE=DATE-TIME:20131123T220000
DTSTAMP;VALUE=DATE-TIME:20260420T111436Z
UID:3e571580eb9e3b62b9934be4649c8620
CREATED;VALUE=DATE-TIME:20131123T000000Z
CATEGORIES:Música
LOCATION:Teatre Principal - C. Església, 45-47
ORGANIZER:S.C. L'Esperança i Regidoria de Cultura
COMMENT:Preu: 7 anticipada per Internet i 9 a taquilla una hora abans
DESCRIPTION:amb el Cor Adàmaris i Dídac Rocher
URL:https://arenysdemar.cat/document.php?id=26877
END:VEVENT
END:VCALENDAR