BEGIN:VCALENDAR
VERSION:2.0
PRODID:-//Plone.org//NONSGML plone.app.event//EN
X-WR-TIMEZONE:Europe/Madrid
BEGIN:VEVENT
SUMMARY:Hora del conte: L'home del sac
DTSTART;TZID=Europe/Madrid;VALUE=DATE-TIME:20131114T180000
DTEND;TZID=Europe/Madrid;VALUE=DATE-TIME:20131114T190000
DTSTAMP;VALUE=DATE-TIME:20260424T145559Z
UID:0dfa0f5f61a6cacbe42bf1602d094ba3
CREATED;VALUE=DATE-TIME:20131114T000000Z
CATEGORIES:Infantils
LOCATION:Sala d'Actes de la Biblioteca - C. Bonaire, 2
ORGANIZER:Biblioteca - Regidoria de Cultura
DESCRIPTION:a càrrec dels participants del projecte De tu @ tu d'Arenys.org
URL:https://arenysdemar.cat/document.php?id=26980
END:VEVENT
END:VCALENDAR