BEGIN:VCALENDAR
VERSION:2.0
PRODID:-//Plone.org//NONSGML plone.app.event//EN
X-WR-TIMEZONE:Europe/Madrid
BEGIN:VEVENT
SUMMARY:Dia de l'Infant
DTSTART;TZID=Europe/Madrid;VALUE=DATE-TIME:20131123T160000
DTEND;TZID=Europe/Madrid;VALUE=DATE-TIME:20131123T170000
DTSTAMP;VALUE=DATE-TIME:20260423T115122Z
UID:0831cb51c7e5fa604099742bd8f7291d
CREATED;VALUE=DATE-TIME:20131123T000000Z
CATEGORIES:Esports,Festa,Infantils
LOCATION:Pati del C.C.Calisay - Riera del Pare Fita, 31
ORGANIZER:Regidoria d'Infància i Joventut
URL:https://arenysdemar.cat/document.php?id=26997
END:VEVENT
END:VCALENDAR