BEGIN:VCALENDAR
VERSION:2.0
PRODID:-//Plone.org//NONSGML plone.app.event//EN
X-WR-TIMEZONE:Europe/Madrid
BEGIN:VEVENT
SUMMARY:Torneig de Ping Pong
DTSTART;TZID=Europe/Madrid;VALUE=DATE-TIME:20131116T170000
DTEND;TZID=Europe/Madrid;VALUE=DATE-TIME:20131116T180000
DTSTAMP;VALUE=DATE-TIME:20260425T053004Z
UID:31933ee78b45a77c256532a945d2aee8
CREATED;VALUE=DATE-TIME:20131116T000000Z
CATEGORIES:Esports
LOCATION:Espai Jove del C.C.Calisay - Riera del Pare Fita, 31
ORGANIZER:Regidoria de Joventut
DESCRIPTION:Vine a jugar!
URL:https://arenysdemar.cat/document.php?id=26998
END:VEVENT
END:VCALENDAR