BEGIN:VCALENDAR
VERSION:2.0
PRODID:-//Plone.org//NONSGML plone.app.event//EN
X-WR-TIMEZONE:Europe/Madrid
BEGIN:VEVENT
SUMMARY:34è Cros dels Arenys
DTSTART;TZID=Europe/Madrid;VALUE=DATE-TIME:20131109T100000
DTEND;TZID=Europe/Madrid;VALUE=DATE-TIME:20131109T110000
DTSTAMP;VALUE=DATE-TIME:20260424T094558Z
UID:e07d22b737c92df766b27c2faba57cfc
CREATED;VALUE=DATE-TIME:20131109T000000Z
CATEGORIES:Esports
LOCATION:Can Jalpí (Arenys de Munt)
ORGANIZER:Regidoria d'Esports
DESCRIPTION:Trofeu Memorial Lluís Garcia Baena Titín i Trofeu Josep Moreno
URL:https://arenysdemar.cat/document.php?id=27001
END:VEVENT
END:VCALENDAR