BEGIN:VCALENDAR
VERSION:2.0
PRODID:-//Plone.org//NONSGML plone.app.event//EN
X-WR-TIMEZONE:Europe/Madrid
BEGIN:VEVENT
SUMMARY:Pessebre municipal
DTSTART;TZID=Europe/Madrid;VALUE=DATE-TIME:20131220T180000
DTEND;TZID=Europe/Madrid;VALUE=DATE-TIME:20131220T190000
DTSTAMP;VALUE=DATE-TIME:20260421T204052Z
UID:724b121d8a11646bea05555e2e2ef324
CREATED;VALUE=DATE-TIME:20131220T000000Z
CATEGORIES:Exposició
LOCATION:Sala Exposicions del C.C.Calisay - Riera del Pare Fita, 31
ORGANIZER:Ajuntament d'Arenys de Mar
COMMENT:Durada: Fins al 6 de gener de 2014
DESCRIPTION:Els pastors de Betlem havien sentit un àngel....
URL:https://arenysdemar.cat/document.php?id=27046
END:VEVENT
END:VCALENDAR