BEGIN:VCALENDAR
VERSION:2.0
PRODID:-//Plone.org//NONSGML plone.app.event//EN
X-WR-TIMEZONE:Europe/Madrid
BEGIN:VEVENT
SUMMARY:Conferència: Crisi dels partits polítics: vies de regeneració democràtica i participació ciutadana
DTSTART;TZID=Europe/Madrid;VALUE=DATE-TIME:20131205T183000
DTEND;TZID=Europe/Madrid;VALUE=DATE-TIME:20131205T193000
DTSTAMP;VALUE=DATE-TIME:20260424T094721Z
UID:943ad8e7bb13766e4b275ae2ec9f0af5
CREATED;VALUE=DATE-TIME:20131205T000000Z
CATEGORIES:Conferència
LOCATION:Sala Noble del C.C.Calisay - Riera Pare Fita, 31
ORGANIZER:Aula d'Extensió Universitària
DESCRIPTION:a càrrec de Itziar González Virós, arquitecte
URL:https://arenysdemar.cat/document.php?id=27085
END:VEVENT
END:VCALENDAR