BEGIN:VCALENDAR
VERSION:2.0
PRODID:-//Plone.org//NONSGML plone.app.event//EN
X-WR-TIMEZONE:Europe/Madrid
BEGIN:VEVENT
SUMMARY:Concentració de cotxes americans
DTSTART;TZID=Europe/Madrid;VALUE=DATE-TIME:20131117T100000
DTEND;TZID=Europe/Madrid;VALUE=DATE-TIME:20131117T110000
DTSTAMP;VALUE=DATE-TIME:20260424T094300Z
UID:a0d95d718caeeb0a81afad8fe64de735
CREATED;VALUE=DATE-TIME:20131117T000000Z
CATEGORIES:Mostra
LOCATION:Riera, davant del C.C. Calisay
ORGANIZER:Opensportscafe
COMMENT:Durada: fins a les 6 de la tarda
DESCRIPTION:ACTIVITAT CANCEL·LADA PER RAONS METEOROLÒGIQUES
URL:https://arenysdemar.cat/document.php?id=27102
END:VEVENT
END:VCALENDAR