BEGIN:VCALENDAR
VERSION:2.0
PRODID:-//Plone.org//NONSGML plone.app.event//EN
X-WR-TIMEZONE:Europe/Madrid
BEGIN:VEVENT
SUMMARY:Concert de Nadal a càrrec de la S.C.l'Esperança
DTSTART;TZID=Europe/Madrid;VALUE=DATE-TIME:20131221T210000
DTEND;TZID=Europe/Madrid;VALUE=DATE-TIME:20131221T220000
DTSTAMP;VALUE=DATE-TIME:20260421T150517Z
UID:db97812d8d204847bc8b71344aa9f39d
CREATED;VALUE=DATE-TIME:20131221T000000Z
CATEGORIES:Festa
LOCATION:C.C.Calisay i Església
ORGANIZER:S.C.l'Esperança i Comissió de la Marató
COMMENT:Preu: col·laboració voluntària
DESCRIPTION:Activitats per la Marató
URL:https://arenysdemar.cat/document.php?id=27131
END:VEVENT
END:VCALENDAR