BEGIN:VCALENDAR
VERSION:2.0
PRODID:-//Plone.org//NONSGML plone.app.event//EN
X-WR-TIMEZONE:Europe/Madrid
BEGIN:VEVENT
SUMMARY:Learning with Books. Beginners. Nelson Mandela, by Coleen Degnan-Veness
DTSTART;TZID=Europe/Madrid;VALUE=DATE-TIME:20131129T203000
DTEND;TZID=Europe/Madrid;VALUE=DATE-TIME:20131129T213000
DTSTAMP;VALUE=DATE-TIME:20260420T184240Z
UID:4465f5d0df507db7cf1d69bc328fd374
CREATED;VALUE=DATE-TIME:20131129T000000Z
CATEGORIES:Literatura
LOCATION:Sala d'Actes de la Biblioteca - C. Bonaire, 2
ORGANIZER:Biblioteca - Regidoria de Cultura i Sakkara Viatges
DESCRIPTION:a càrrec de Brian Doherty
URL:https://arenysdemar.cat/document.php?id=27137
END:VEVENT
END:VCALENDAR