BEGIN:VCALENDAR
VERSION:2.0
PRODID:-//Plone.org//NONSGML plone.app.event//EN
X-WR-TIMEZONE:Europe/Madrid
BEGIN:VEVENT
SUMMARY:Taller de cupcakes
DTSTART;TZID=Europe/Madrid;VALUE=DATE-TIME:20131221T173000
DTEND;TZID=Europe/Madrid;VALUE=DATE-TIME:20131221T183000
DTSTAMP;VALUE=DATE-TIME:20260421T201347Z
UID:762290837dfceb3349c38504266069e1
CREATED;VALUE=DATE-TIME:20131221T000000Z
CATEGORIES:Cursos
LOCATION:Espai Jove del C.C.Calisay - Riera del Pare Fita, 31
ORGANIZER:Regidoria d'Infància i Joventut
COMMENT:Preu: Inscripcions dijous, divendres i dissabtes de 16h a 20h. o per telèfon al 937957750. Places limitades.
DESCRIPTION:fem cupcakes a l'Espai Jove!
URL:https://arenysdemar.cat/document.php?id=27147
END:VEVENT
END:VCALENDAR